BEGIN:VCALENDAR
VERSION:2.0
PRODID:-//Schulverband Blekendorf | Grundschule Blekendorf - Dannau - ECPv6.15.16//NONSGML v1.0//EN
CALSCALE:GREGORIAN
METHOD:PUBLISH
X-WR-CALNAME:Schulverband Blekendorf | Grundschule Blekendorf - Dannau
X-ORIGINAL-URL:https://ostseeschule-blekendorf-dannau.de
X-WR-CALDESC:Veranstaltungen für Schulverband Blekendorf | Grundschule Blekendorf - Dannau
REFRESH-INTERVAL;VALUE=DURATION:PT1H
X-Robots-Tag:noindex
X-PUBLISHED-TTL:PT1H
BEGIN:VTIMEZONE
TZID:Europe/Berlin
BEGIN:DAYLIGHT
TZOFFSETFROM:+0100
TZOFFSETTO:+0200
TZNAME:CEST
DTSTART:20220327T010000
END:DAYLIGHT
BEGIN:STANDARD
TZOFFSETFROM:+0200
TZOFFSETTO:+0100
TZNAME:CET
DTSTART:20221030T010000
END:STANDARD
BEGIN:DAYLIGHT
TZOFFSETFROM:+0100
TZOFFSETTO:+0200
TZNAME:CEST
DTSTART:20230326T010000
END:DAYLIGHT
BEGIN:STANDARD
TZOFFSETFROM:+0200
TZOFFSETTO:+0100
TZNAME:CET
DTSTART:20231029T010000
END:STANDARD
BEGIN:DAYLIGHT
TZOFFSETFROM:+0100
TZOFFSETTO:+0200
TZNAME:CEST
DTSTART:20240331T010000
END:DAYLIGHT
BEGIN:STANDARD
TZOFFSETFROM:+0200
TZOFFSETTO:+0100
TZNAME:CET
DTSTART:20241027T010000
END:STANDARD
BEGIN:DAYLIGHT
TZOFFSETFROM:+0100
TZOFFSETTO:+0200
TZNAME:CEST
DTSTART:20250330T010000
END:DAYLIGHT
BEGIN:STANDARD
TZOFFSETFROM:+0200
TZOFFSETTO:+0100
TZNAME:CET
DTSTART:20251026T010000
END:STANDARD
BEGIN:DAYLIGHT
TZOFFSETFROM:+0100
TZOFFSETTO:+0200
TZNAME:CEST
DTSTART:20260329T010000
END:DAYLIGHT
BEGIN:STANDARD
TZOFFSETFROM:+0200
TZOFFSETTO:+0100
TZNAME:CET
DTSTART:20261025T010000
END:STANDARD
END:VTIMEZONE
BEGIN:VEVENT
DTSTART;VALUE=DATE:20250224
DTEND;VALUE=DATE:20250225
DTSTAMP:20260424T152117
CREATED:20250122T081611Z
LAST-MODIFIED:20250122T081952Z
UID:5324-1740355200-1740441599@ostseeschule-blekendorf-dannau.de
SUMMARY:Elternsprechtag Dannau
DESCRIPTION:Elternsprechtag Dannau
URL:https://ostseeschule-blekendorf-dannau.de/event/elternsprechtag-dannau/
CATEGORIES:Termine
END:VEVENT
BEGIN:VEVENT
DTSTART;VALUE=DATE:20231223
DTEND;VALUE=DATE:20240106
DTSTAMP:20260424T152117
CREATED:20231015T114020Z
LAST-MODIFIED:20231015T114102Z
UID:4383-1703289600-1704499199@ostseeschule-blekendorf-dannau.de
SUMMARY:23.12. – 06.01.24 Weihnachtsferien
DESCRIPTION:23.12. – 06.01.24 Weihnachtsferien
URL:https://ostseeschule-blekendorf-dannau.de/event/adventssingen-in-der-kirche-blekendorf-17-00-uhr/
CATEGORIES:Termine
END:VEVENT
BEGIN:VEVENT
DTSTART;VALUE=DATE:20231215
DTEND;VALUE=DATE:20231216
DTSTAMP:20260424T152117
CREATED:20231015T113958Z
LAST-MODIFIED:20231123T095948Z
UID:4381-1702598400-1702684799@ostseeschule-blekendorf-dannau.de
SUMMARY:Weihnachtstheater Vorführung Turnhalle in Dannau
DESCRIPTION:Weihnachtstheater Vorführung Turnhalle in Dannau
URL:https://ostseeschule-blekendorf-dannau.de/event/weihnachtstheater-vorfuehrung-turnhalle-in-dannau/
CATEGORIES:Termine
END:VEVENT
BEGIN:VEVENT
DTSTART;VALUE=DATE:20231201
DTEND;VALUE=DATE:20231202
DTSTAMP:20260424T152117
CREATED:20231015T113937Z
LAST-MODIFIED:20231015T113937Z
UID:4379-1701388800-1701475199@ostseeschule-blekendorf-dannau.de
SUMMARY:Adventsbasteln in Blekendorf und Dannau
DESCRIPTION:
URL:https://ostseeschule-blekendorf-dannau.de/event/adventsbasteln-in-blekendorf-und-dannau/
CATEGORIES:Termine
END:VEVENT
BEGIN:VEVENT
DTSTART;VALUE=DATE:20231120
DTEND;VALUE=DATE:20231121
DTSTAMP:20260424T152117
CREATED:20231015T113921Z
LAST-MODIFIED:20231015T113921Z
UID:4377-1700438400-1700524799@ostseeschule-blekendorf-dannau.de
SUMMARY:SET Tag Lehrergesundheit in Grube (unterrichtsfrei für Schülerinnen und Schüler)
DESCRIPTION:SET Tag Lehrergesundheit in Grube (unterrichtsfrei für Schülerinnen und Schüler)
URL:https://ostseeschule-blekendorf-dannau.de/event/set-tag-lehrergesundheit-in-grube-unterrichtsfrei-fuer-schuelerinnen-und-schueler/
END:VEVENT
BEGIN:VEVENT
DTSTART;VALUE=DATE:20231115
DTEND;VALUE=DATE:20231116
DTSTAMP:20260424T152117
CREATED:20231015T113835Z
LAST-MODIFIED:20231015T113847Z
UID:4375-1700006400-1700092799@ostseeschule-blekendorf-dannau.de
SUMMARY:Schulkonferenz 19.00 Uhr in Blekendorf
DESCRIPTION:
URL:https://ostseeschule-blekendorf-dannau.de/event/schulkonferenz-19-00-uhr-in-blekendorf/
CATEGORIES:Termine
END:VEVENT
BEGIN:VEVENT
DTSTART;VALUE=DATE:20231111
DTEND;VALUE=DATE:20231112
DTSTAMP:20260424T152117
CREATED:20231015T113826Z
LAST-MODIFIED:20231015T113826Z
UID:4373-1699660800-1699747199@ostseeschule-blekendorf-dannau.de
SUMMARY:Lehrerkonferenz ab 13.00 Uhr
DESCRIPTION:
URL:https://ostseeschule-blekendorf-dannau.de/event/lehrerkonferenz-ab-13-00-uhr/
END:VEVENT
BEGIN:VEVENT
DTSTART;VALUE=DATE:20231108
DTEND;VALUE=DATE:20231209
DTSTAMP:20260424T152117
CREATED:20231015T113807Z
LAST-MODIFIED:20231015T113807Z
UID:4371-1699401600-1702079999@ostseeschule-blekendorf-dannau.de
SUMMARY:Fachkonferenzen ab 13.00 Uhr
DESCRIPTION:
URL:https://ostseeschule-blekendorf-dannau.de/event/fachkonferenzen-ab-13-00-uhr/
CATEGORIES:Termine
END:VEVENT
BEGIN:VEVENT
DTSTART;TZID=Europe/Berlin:20231016T080000
DTEND;TZID=Europe/Berlin:20231027T000000
DTSTAMP:20260424T152117
CREATED:20230924T154408Z
LAST-MODIFIED:20230924T154408Z
UID:4263-1697443200-1698364800@ostseeschule-blekendorf-dannau.de
SUMMARY:16.10. – 27.10 Herbstferien
DESCRIPTION:
URL:https://ostseeschule-blekendorf-dannau.de/event/16-10-27-10-herbstferien/
END:VEVENT
BEGIN:VEVENT
DTSTART;VALUE=DATE:20231009
DTEND;VALUE=DATE:20231010
DTSTAMP:20260424T152117
CREATED:20230924T154337Z
LAST-MODIFIED:20230924T154337Z
UID:4261-1696809600-1696895999@ostseeschule-blekendorf-dannau.de
SUMMARY:Praktikantin Dannau 1 Woche
DESCRIPTION:
URL:https://ostseeschule-blekendorf-dannau.de/event/praktikantin-dannau-1-woche/
END:VEVENT
BEGIN:VEVENT
DTSTART;VALUE=DATE:20231006
DTEND;VALUE=DATE:20231007
DTSTAMP:20260424T152117
CREATED:20230924T154318Z
LAST-MODIFIED:20230924T154318Z
UID:4259-1696550400-1696636799@ostseeschule-blekendorf-dannau.de
SUMMARY:Apfel-Kartoffeltag in Blekendorf/ Dannau
DESCRIPTION:Apfel-Kartoffeltag in Blekendorf/ Dannau kombiniert mit Projekttag Ernährung
URL:https://ostseeschule-blekendorf-dannau.de/event/apfel-kartoffeltag-in-blekendorf-dannau/
END:VEVENT
BEGIN:VEVENT
DTSTART;VALUE=DATE:20231002
DTEND;VALUE=DATE:20231003
DTSTAMP:20260424T152117
CREATED:20230924T154256Z
LAST-MODIFIED:20230924T154256Z
UID:4257-1696204800-1696291199@ostseeschule-blekendorf-dannau.de
SUMMARY:SET Tag IT und SU (unterrichtsfrei für Schülerinnen und Schüler)
DESCRIPTION:
URL:https://ostseeschule-blekendorf-dannau.de/event/set-tag-it-und-su-unterrichtsfrei-fuer-schuelerinnen-und-schueler/
END:VEVENT
BEGIN:VEVENT
DTSTART;VALUE=DATE:20230930
DTEND;VALUE=DATE:20231001
DTSTAMP:20260424T152117
CREATED:20230924T154233Z
LAST-MODIFIED:20230924T154233Z
UID:4255-1696032000-1696118399@ostseeschule-blekendorf-dannau.de
SUMMARY:Erntedankumzug Dannau
DESCRIPTION:
URL:https://ostseeschule-blekendorf-dannau.de/event/erntedankumzug-dannau/
END:VEVENT
BEGIN:VEVENT
DTSTART;VALUE=DATE:20230929
DTEND;VALUE=DATE:20230930
DTSTAMP:20260424T152117
CREATED:20230828T095650Z
LAST-MODIFIED:20230828T095659Z
UID:3883-1695945600-1696031999@ostseeschule-blekendorf-dannau.de
SUMMARY:Erntedank-Projekttag in der Kirche
DESCRIPTION:
URL:https://ostseeschule-blekendorf-dannau.de/event/erntedank-projekttag-in-der-kirche/
CATEGORIES:Termine
END:VEVENT
BEGIN:VEVENT
DTSTART;VALUE=DATE:20230928
DTEND;VALUE=DATE:20230929
DTSTAMP:20260424T152117
CREATED:20230831T112803Z
LAST-MODIFIED:20230831T112803Z
UID:3963-1695859200-1695945599@ostseeschule-blekendorf-dannau.de
SUMMARY:Fotograf in Blekendorf 09.00 bis 12.00 Uhr
DESCRIPTION:
URL:https://ostseeschule-blekendorf-dannau.de/event/fotograf-in-blekendorf-09-00-bis-12-00-uhr/
END:VEVENT
BEGIN:VEVENT
DTSTART;VALUE=DATE:20230926
DTEND;VALUE=DATE:20230927
DTSTAMP:20260424T152117
CREATED:20230831T112733Z
LAST-MODIFIED:20230831T112738Z
UID:3961-1695686400-1695772799@ostseeschule-blekendorf-dannau.de
SUMMARY:Fotograf in Dannau 09.00 bis 11.00Uhr
DESCRIPTION:
URL:https://ostseeschule-blekendorf-dannau.de/event/fotograf-in-dannau-09-00-bis-11-00uhr/
CATEGORIES:Termine
END:VEVENT
BEGIN:VEVENT
DTSTART;VALUE=DATE:20230922
DTEND;VALUE=DATE:20230923
DTSTAMP:20260424T152117
CREATED:20230828T095618Z
LAST-MODIFIED:20230828T095618Z
UID:3881-1695340800-1695427199@ostseeschule-blekendorf-dannau.de
SUMMARY:Wandertag ins Feldrevier
DESCRIPTION:
URL:https://ostseeschule-blekendorf-dannau.de/event/wandertag-ins-feldrevier/
END:VEVENT
BEGIN:VEVENT
DTSTART;VALUE=DATE:20230919
DTEND;VALUE=DATE:20230920
DTSTAMP:20260424T152117
CREATED:20230828T095551Z
LAST-MODIFIED:20230828T095558Z
UID:3879-1695081600-1695167999@ostseeschule-blekendorf-dannau.de
SUMMARY:Lehrerkonferenz
DESCRIPTION:
URL:https://ostseeschule-blekendorf-dannau.de/event/lehrerkonferenz/
END:VEVENT
BEGIN:VEVENT
DTSTART;VALUE=DATE:20230915
DTEND;VALUE=DATE:20230916
DTSTAMP:20260424T152117
CREATED:20230901T113100Z
LAST-MODIFIED:20230901T113100Z
UID:3975-1694736000-1694822399@ostseeschule-blekendorf-dannau.de
SUMMARY:Lauftag (Spendenlauf) Dannau
DESCRIPTION:
URL:https://ostseeschule-blekendorf-dannau.de/event/lauftag-spendenlauf-dannau/
END:VEVENT
BEGIN:VEVENT
DTSTART;VALUE=DATE:20230914
DTEND;VALUE=DATE:20230915
DTSTAMP:20260424T152117
CREATED:20230901T113037Z
LAST-MODIFIED:20230901T113037Z
UID:3973-1694649600-1694735999@ostseeschule-blekendorf-dannau.de
SUMMARY:Lauftag (Spendenlauf) Blekendorf
DESCRIPTION:
URL:https://ostseeschule-blekendorf-dannau.de/event/lauftag-spendenlauf-blekendorf/
CATEGORIES:Termine
END:VEVENT
BEGIN:VEVENT
DTSTART;VALUE=DATE:20230912
DTEND;VALUE=DATE:20230913
DTSTAMP:20260424T152117
CREATED:20230828T095535Z
LAST-MODIFIED:20230828T095535Z
UID:3877-1694476800-1694563199@ostseeschule-blekendorf-dannau.de
SUMMARY:Waldspiele im Hessenstein
DESCRIPTION:
URL:https://ostseeschule-blekendorf-dannau.de/event/waldspiele-im-hessenstein/
END:VEVENT
BEGIN:VEVENT
DTSTART;VALUE=DATE:20230911
DTEND;VALUE=DATE:20230912
DTSTAMP:20260424T152117
CREATED:20230828T095508Z
LAST-MODIFIED:20230828T095508Z
UID:3875-1694390400-1694476799@ostseeschule-blekendorf-dannau.de
SUMMARY:Praktikantin Dannau 3 Wochen
DESCRIPTION:
URL:https://ostseeschule-blekendorf-dannau.de/event/praktikantin-dannau-3-wochen/
END:VEVENT
BEGIN:VEVENT
DTSTART;TZID=Europe/Berlin:20230907T180000
DTEND;TZID=Europe/Berlin:20230907T210000
DTSTAMP:20260424T152117
CREATED:20230828T095342Z
LAST-MODIFIED:20230831T112544Z
UID:3870-1694109600-1694120400@ostseeschule-blekendorf-dannau.de
SUMMARY:Elternabende Dannau
DESCRIPTION:Elternabende Dannau\n18.00 Uhr 3. und 4. Klasse \n19.00 Uhr 1. und 2. Klasse
URL:https://ostseeschule-blekendorf-dannau.de/event/elternabende-dannau/
END:VEVENT
BEGIN:VEVENT
DTSTART;TZID=Europe/Berlin:20230906T180000
DTEND;TZID=Europe/Berlin:20230906T200000
DTSTAMP:20260424T152117
CREATED:20230828T095443Z
LAST-MODIFIED:20230831T112450Z
UID:3872-1694023200-1694030400@ostseeschule-blekendorf-dannau.de
SUMMARY:Elternabend Blekendorf
DESCRIPTION:Elternabend Blekendorf \n18.00 Uhr 3. und 4.  Klasse          19.00 Uhr 1. und 2. Klasse
URL:https://ostseeschule-blekendorf-dannau.de/event/elternabend-blekendorf/
END:VEVENT
BEGIN:VEVENT
DTSTART;VALUE=DATE:20230904
DTEND;VALUE=DATE:20230905
DTSTAMP:20260424T152117
CREATED:20230828T095237Z
LAST-MODIFIED:20230828T095237Z
UID:3868-1693785600-1693871999@ostseeschule-blekendorf-dannau.de
SUMMARY:Praktikant Dannau 3 Wochen
DESCRIPTION:
URL:https://ostseeschule-blekendorf-dannau.de/event/praktikant-dannau-3-wochen/
CATEGORIES:Termine
END:VEVENT
BEGIN:VEVENT
DTSTART;VALUE=DATE:20230830
DTEND;VALUE=DATE:20230831
DTSTAMP:20260424T152117
CREATED:20230704T163223Z
LAST-MODIFIED:20230704T163223Z
UID:3737-1693353600-1693439999@ostseeschule-blekendorf-dannau.de
SUMMARY:Einschulung Blekendorf und Dannau
DESCRIPTION:
URL:https://ostseeschule-blekendorf-dannau.de/event/einschulung-blekendorf-und-dannau/
END:VEVENT
BEGIN:VEVENT
DTSTART;VALUE=DATE:20230828
DTEND;VALUE=DATE:20230829
DTSTAMP:20260424T152117
CREATED:20230704T163202Z
LAST-MODIFIED:20230704T163202Z
UID:3735-1693180800-1693267199@ostseeschule-blekendorf-dannau.de
SUMMARY:1. Schultag
DESCRIPTION:
URL:https://ostseeschule-blekendorf-dannau.de/event/1-schultag/
END:VEVENT
BEGIN:VEVENT
DTSTART;VALUE=DATE:20230717
DTEND;VALUE=DATE:20230826
DTSTAMP:20260424T152117
CREATED:20230704T092756Z
LAST-MODIFIED:20230704T092756Z
UID:3493-1689552000-1693007999@ostseeschule-blekendorf-dannau.de
SUMMARY:17.07. – 25.08.	Sommerferien
DESCRIPTION:
URL:https://ostseeschule-blekendorf-dannau.de/event/17-07-25-08-sommerferien/
END:VEVENT
BEGIN:VEVENT
DTSTART;VALUE=DATE:20230714
DTEND;VALUE=DATE:20230715
DTSTAMP:20260424T152117
CREATED:20230704T092724Z
LAST-MODIFIED:20230704T092724Z
UID:3491-1689292800-1689379199@ostseeschule-blekendorf-dannau.de
SUMMARY:Letzter Schultag / Zeugnisausgabe
DESCRIPTION:
URL:https://ostseeschule-blekendorf-dannau.de/event/letzter-schultag-zeugnisausgabe/
END:VEVENT
BEGIN:VEVENT
DTSTART;VALUE=DATE:20230711
DTEND;VALUE=DATE:20230712
DTSTAMP:20260424T152117
CREATED:20230704T092651Z
LAST-MODIFIED:20230709T150147Z
UID:3489-1689033600-1689119999@ostseeschule-blekendorf-dannau.de
SUMMARY:Sporttag Blekendorf (Termin und Wetterausweichtermin)
DESCRIPTION:Wegen der Gewitterlage wird das Sportfest auf den Ausweichtermin am 11.7. verschoben. Freiwillige Helfer bitte melden!
URL:https://ostseeschule-blekendorf-dannau.de/event/sporttag-blekendorf-termin-und-wetterausweichtermin-2/
END:VEVENT
END:VCALENDAR